BEGIN:VCALENDAR
VERSION:2.0
PRODID:-//Western Idaho Fair - ECPv6.15.16//NONSGML v1.0//EN
CALSCALE:GREGORIAN
METHOD:PUBLISH
X-ORIGINAL-URL:https://idahofair.com
X-WR-CALDESC:Events for Western Idaho Fair
REFRESH-INTERVAL;VALUE=DURATION:PT1H
X-Robots-Tag:noindex
X-PUBLISHED-TTL:PT1H
BEGIN:VTIMEZONE
TZID:America/Boise
BEGIN:DAYLIGHT
TZOFFSETFROM:-0700
TZOFFSETTO:-0600
TZNAME:MDT
DTSTART:20240310T090000
END:DAYLIGHT
BEGIN:STANDARD
TZOFFSETFROM:-0600
TZOFFSETTO:-0700
TZNAME:MST
DTSTART:20241103T080000
END:STANDARD
BEGIN:DAYLIGHT
TZOFFSETFROM:-0700
TZOFFSETTO:-0600
TZNAME:MDT
DTSTART:20250309T090000
END:DAYLIGHT
BEGIN:STANDARD
TZOFFSETFROM:-0600
TZOFFSETTO:-0700
TZNAME:MST
DTSTART:20251102T080000
END:STANDARD
BEGIN:DAYLIGHT
TZOFFSETFROM:-0700
TZOFFSETTO:-0600
TZNAME:MDT
DTSTART:20260308T090000
END:DAYLIGHT
BEGIN:STANDARD
TZOFFSETFROM:-0600
TZOFFSETTO:-0700
TZNAME:MST
DTSTART:20261101T080000
END:STANDARD
END:VTIMEZONE
BEGIN:VEVENT
DTSTART;TZID=America/Boise:20250820T160000
DTEND;TZID=America/Boise:20250820T180000
DTSTAMP:20260421T053343
CREATED:20250727T214645Z
LAST-MODIFIED:20250727T215415Z
UID:10005378-1755705600-1755712800@idahofair.com
SUMMARY:Hobby Craft Demo: Idaho Heritage Artists Decorative Painting
DESCRIPTION:Discover the joy of painting! Join us for a creative and fun experience where you’ll learn essential techniques and unleash your inner artist.
URL:https://idahofair.com/schedule/hobby-craft-demo-idaho-heritage-artists-decorative-painting/2025-08-20/2/
LOCATION:Hobby Craft Area – South Expo\, 5610 Glenwood St.\, Boise\, ID\, 83714\, United States
CATEGORIES:Contests & Activities
ATTACH;FMTTYPE=image/jpeg:https://idahofair.com/wp-content/uploads/heritageartists-ADu4LR.tmp_.jpg
GEO:43.651845503259;-116.27449646034
X-APPLE-STRUCTURED-LOCATION;VALUE=URI;X-ADDRESS=Hobby Craft Area – South Expo 5610 Glenwood St. Boise ID 83714 United States;X-APPLE-RADIUS=500;X-TITLE=5610 Glenwood St.:geo:-116.27449646034,43.651845503259
END:VEVENT
BEGIN:VEVENT
DTSTART;TZID=America/Boise:20250820T140000
DTEND;TZID=America/Boise:20250820T200000
DTSTAMP:20260421T053343
CREATED:20250811T010017Z
LAST-MODIFIED:20250811T010017Z
UID:10005411-1755698400-1755720000@idahofair.com
SUMMARY:Make & Take Activities
DESCRIPTION:Come roll up your sleeves\, craft something together\, and take home a unique keepsake. It’s hands-on\, fun\, and a great way to spend quality time while creating something memorable.
URL:https://idahofair.com/schedule/make-take-activities-6/
LOCATION:Western Town\, 5610 Glenwood St.\, Boise\, ID\, 83714\, United States
CATEGORIES:Contests & Activities
ATTACH;FMTTYPE=image/webp:https://idahofair.com/wp-content/uploads/activities.webp
GEO:43.65256675;-116.2734233
X-APPLE-STRUCTURED-LOCATION;VALUE=URI;X-ADDRESS=Western Town 5610 Glenwood St. Boise ID 83714 United States;X-APPLE-RADIUS=500;X-TITLE=5610 Glenwood St.:geo:-116.2734233,43.65256675
END:VEVENT
BEGIN:VEVENT
DTSTART;TZID=America/Boise:20250820T140000
DTEND;TZID=America/Boise:20250820T160000
DTSTAMP:20260421T053343
CREATED:20250727T214645Z
LAST-MODIFIED:20250727T215415Z
UID:10005377-1755698400-1755705600@idahofair.com
SUMMARY:Hobby Craft Demo: Idaho Heritage Artists Decorative Painting
DESCRIPTION:Discover the joy of painting! Join us for a creative and fun experience where you’ll learn essential techniques and unleash your inner artist.
URL:https://idahofair.com/schedule/hobby-craft-demo-idaho-heritage-artists-decorative-painting/2025-08-20/1/
LOCATION:Hobby Craft Area – South Expo\, 5610 Glenwood St.\, Boise\, ID\, 83714\, United States
CATEGORIES:Contests & Activities
ATTACH;FMTTYPE=image/jpeg:https://idahofair.com/wp-content/uploads/heritageartists-ADu4LR.tmp_.jpg
GEO:43.651845503259;-116.27449646034
X-APPLE-STRUCTURED-LOCATION;VALUE=URI;X-ADDRESS=Hobby Craft Area – South Expo 5610 Glenwood St. Boise ID 83714 United States;X-APPLE-RADIUS=500;X-TITLE=5610 Glenwood St.:geo:-116.27449646034,43.651845503259
END:VEVENT
BEGIN:VEVENT
DTSTART;TZID=America/Boise:20250820T140000
DTEND;TZID=America/Boise:20250820T160000
DTSTAMP:20260421T053343
CREATED:20250727T214153Z
LAST-MODIFIED:20250727T214153Z
UID:10005364-1755698400-1755705600@idahofair.com
SUMMARY:Hobby Craft Demo: Idaho Gourd Society
DESCRIPTION:Come learn how to transform gourds into art! From selecting the right gourd to cleaning\, painting\, carving\, sealing and everything in between.
URL:https://idahofair.com/schedule/hobby-craft-demo-idaho-gourd-society-7/2025-08-20/2/
LOCATION:Hobby Craft Area – South Expo\, 5610 Glenwood St.\, Boise\, ID\, 83714\, United States
CATEGORIES:Contests & Activities
ATTACH;FMTTYPE=image/jpeg:https://idahofair.com/wp-content/uploads/gourd.jpg
GEO:43.651845503259;-116.27449646034
X-APPLE-STRUCTURED-LOCATION;VALUE=URI;X-ADDRESS=Hobby Craft Area – South Expo 5610 Glenwood St. Boise ID 83714 United States;X-APPLE-RADIUS=500;X-TITLE=5610 Glenwood St.:geo:-116.27449646034,43.651845503259
END:VEVENT
BEGIN:VEVENT
DTSTART;TZID=America/Boise:20250820T120000
DTEND;TZID=America/Boise:20250820T200000
DTSTAMP:20260421T053343
CREATED:20250810T165127Z
LAST-MODIFIED:20250810T165127Z
UID:10005403-1755691200-1755720000@idahofair.com
SUMMARY:Hidden Wonders Scavenger Hunt
DESCRIPTION:Grab your map and get ready to explore! Follow clues\, crack puzzles\, and uncover surprises on a quest made just for young adventurers at the Western Idaho Fairgrounds.
URL:https://idahofair.com/schedule/hidden-wonders-scavenger-hunt-11/
CATEGORIES:Contests & Activities
ATTACH;FMTTYPE=image/webp:https://idahofair.com/wp-content/uploads/scavenger-hunt.webp
END:VEVENT
BEGIN:VEVENT
DTSTART;TZID=America/Boise:20250820T120000
DTEND;TZID=America/Boise:20250820T140000
DTSTAMP:20260421T053343
CREATED:20250727T214153Z
LAST-MODIFIED:20250727T214153Z
UID:10005363-1755691200-1755698400@idahofair.com
SUMMARY:Hobby Craft Demo: Idaho Gourd Society
DESCRIPTION:Come learn how to transform gourds into art! From selecting the right gourd to cleaning\, painting\, carving\, sealing and everything in between.
URL:https://idahofair.com/schedule/hobby-craft-demo-idaho-gourd-society-7/2025-08-20/1/
LOCATION:Hobby Craft Area – South Expo\, 5610 Glenwood St.\, Boise\, ID\, 83714\, United States
CATEGORIES:Contests & Activities
ATTACH;FMTTYPE=image/jpeg:https://idahofair.com/wp-content/uploads/gourd.jpg
GEO:43.651845503259;-116.27449646034
X-APPLE-STRUCTURED-LOCATION;VALUE=URI;X-ADDRESS=Hobby Craft Area – South Expo 5610 Glenwood St. Boise ID 83714 United States;X-APPLE-RADIUS=500;X-TITLE=5610 Glenwood St.:geo:-116.27449646034,43.651845503259
END:VEVENT
BEGIN:VEVENT
DTSTART;TZID=America/Boise:20250819T140000
DTEND;TZID=America/Boise:20250819T200000
DTSTAMP:20260421T053343
CREATED:20250811T010014Z
LAST-MODIFIED:20250811T010014Z
UID:10005410-1755612000-1755633600@idahofair.com
SUMMARY:Make & Take Activities
DESCRIPTION:Come roll up your sleeves\, craft something together\, and take home a unique keepsake. It’s hands-on\, fun\, and a great way to spend quality time while creating something memorable.
URL:https://idahofair.com/schedule/make-take-activities-5/
LOCATION:Western Town\, 5610 Glenwood St.\, Boise\, ID\, 83714\, United States
CATEGORIES:Contests & Activities
ATTACH;FMTTYPE=image/webp:https://idahofair.com/wp-content/uploads/activities.webp
GEO:43.65256675;-116.2734233
X-APPLE-STRUCTURED-LOCATION;VALUE=URI;X-ADDRESS=Western Town 5610 Glenwood St. Boise ID 83714 United States;X-APPLE-RADIUS=500;X-TITLE=5610 Glenwood St.:geo:-116.2734233,43.65256675
END:VEVENT
BEGIN:VEVENT
DTSTART;TZID=America/Boise:20250819T120000
DTEND;TZID=America/Boise:20250819T200000
DTSTAMP:20260421T053343
CREATED:20250810T165121Z
LAST-MODIFIED:20250819T162750Z
UID:10005397-1755604800-1755633600@idahofair.com
SUMMARY:Hidden Wonders Scavenger Hunt
DESCRIPTION:Grab your map and get ready to explore! Follow clues\, crack puzzles\, and uncover surprises on a quest made just for young adventurers at the Western Idaho Fairgrounds.
URL:https://idahofair.com/schedule/hidden-wonders-scavenger-hunt-5/
CATEGORIES:Contests & Activities
ATTACH;FMTTYPE=image/webp:https://idahofair.com/wp-content/uploads/scavenger-hunt.webp
END:VEVENT
BEGIN:VEVENT
DTSTART;TZID=America/Boise:20250818T160000
DTEND;TZID=America/Boise:20250818T180000
DTSTAMP:20260421T053343
CREATED:20250727T214645Z
LAST-MODIFIED:20250727T215415Z
UID:10005376-1755532800-1755540000@idahofair.com
SUMMARY:Hobby Craft Demo: Idaho Heritage Artists Decorative Painting
DESCRIPTION:Discover the joy of painting! Join us for a creative and fun experience where you’ll learn essential techniques and unleash your inner artist.
URL:https://idahofair.com/schedule/hobby-craft-demo-idaho-heritage-artists-decorative-painting/2025-08-18/2/
LOCATION:Hobby Craft Area – South Expo\, 5610 Glenwood St.\, Boise\, ID\, 83714\, United States
CATEGORIES:Contests & Activities
ATTACH;FMTTYPE=image/jpeg:https://idahofair.com/wp-content/uploads/heritageartists-ADu4LR.tmp_.jpg
GEO:43.651845503259;-116.27449646034
X-APPLE-STRUCTURED-LOCATION;VALUE=URI;X-ADDRESS=Hobby Craft Area – South Expo 5610 Glenwood St. Boise ID 83714 United States;X-APPLE-RADIUS=500;X-TITLE=5610 Glenwood St.:geo:-116.27449646034,43.651845503259
END:VEVENT
BEGIN:VEVENT
DTSTART;TZID=America/Boise:20250818T140000
DTEND;TZID=America/Boise:20250818T200000
DTSTAMP:20260421T053343
CREATED:20250811T010013Z
LAST-MODIFIED:20250811T010013Z
UID:10005409-1755525600-1755547200@idahofair.com
SUMMARY:Make & Take Activities
DESCRIPTION:Come roll up your sleeves\, craft something together\, and take home a unique keepsake. It’s hands-on\, fun\, and a great way to spend quality time while creating something memorable.
URL:https://idahofair.com/schedule/make-take-activities-4/
LOCATION:Western Town\, 5610 Glenwood St.\, Boise\, ID\, 83714\, United States
CATEGORIES:Contests & Activities
ATTACH;FMTTYPE=image/webp:https://idahofair.com/wp-content/uploads/activities.webp
GEO:43.65256675;-116.2734233
X-APPLE-STRUCTURED-LOCATION;VALUE=URI;X-ADDRESS=Western Town 5610 Glenwood St. Boise ID 83714 United States;X-APPLE-RADIUS=500;X-TITLE=5610 Glenwood St.:geo:-116.2734233,43.65256675
END:VEVENT
BEGIN:VEVENT
DTSTART;TZID=America/Boise:20250818T140000
DTEND;TZID=America/Boise:20250818T160000
DTSTAMP:20260421T053343
CREATED:20250727T214645Z
LAST-MODIFIED:20250727T215415Z
UID:10005375-1755525600-1755532800@idahofair.com
SUMMARY:Hobby Craft Demo: Idaho Heritage Artists Decorative Painting
DESCRIPTION:Discover the joy of painting! Join us for a creative and fun experience where you’ll learn essential techniques and unleash your inner artist.
URL:https://idahofair.com/schedule/hobby-craft-demo-idaho-heritage-artists-decorative-painting/2025-08-18/1/
LOCATION:Hobby Craft Area – South Expo\, 5610 Glenwood St.\, Boise\, ID\, 83714\, United States
CATEGORIES:Contests & Activities
ATTACH;FMTTYPE=image/jpeg:https://idahofair.com/wp-content/uploads/heritageartists-ADu4LR.tmp_.jpg
GEO:43.651845503259;-116.27449646034
X-APPLE-STRUCTURED-LOCATION;VALUE=URI;X-ADDRESS=Hobby Craft Area – South Expo 5610 Glenwood St. Boise ID 83714 United States;X-APPLE-RADIUS=500;X-TITLE=5610 Glenwood St.:geo:-116.27449646034,43.651845503259
END:VEVENT
BEGIN:VEVENT
DTSTART;TZID=America/Boise:20250818T120000
DTEND;TZID=America/Boise:20250818T200000
DTSTAMP:20260421T053343
CREATED:20250810T165120Z
LAST-MODIFIED:20250810T165120Z
UID:10005396-1755518400-1755547200@idahofair.com
SUMMARY:Hidden Wonders Scavenger Hunt
DESCRIPTION:Grab your map and get ready to explore! Follow clues\, crack puzzles\, and uncover surprises on a quest made just for young adventurers at the Western Idaho Fairgrounds.
URL:https://idahofair.com/schedule/hidden-wonders-scavenger-hunt-4/
CATEGORIES:Contests & Activities
ATTACH;FMTTYPE=image/webp:https://idahofair.com/wp-content/uploads/scavenger-hunt.webp
END:VEVENT
BEGIN:VEVENT
DTSTART;TZID=America/Boise:20250817T140000
DTEND;TZID=America/Boise:20250817T160000
DTSTAMP:20260421T053343
CREATED:20250727T214645Z
LAST-MODIFIED:20250727T215415Z
UID:10005374-1755439200-1755446400@idahofair.com
SUMMARY:Hobby Craft Demo: Idaho Heritage Artists Decorative Painting
DESCRIPTION:Discover the joy of painting! Join us for a creative and fun experience where you’ll learn essential techniques and unleash your inner artist.
URL:https://idahofair.com/schedule/hobby-craft-demo-idaho-heritage-artists-decorative-painting/2025-08-17/2/
LOCATION:Hobby Craft Area – South Expo\, 5610 Glenwood St.\, Boise\, ID\, 83714\, United States
CATEGORIES:Contests & Activities
ATTACH;FMTTYPE=image/jpeg:https://idahofair.com/wp-content/uploads/heritageartists-ADu4LR.tmp_.jpg
GEO:43.651845503259;-116.27449646034
X-APPLE-STRUCTURED-LOCATION;VALUE=URI;X-ADDRESS=Hobby Craft Area – South Expo 5610 Glenwood St. Boise ID 83714 United States;X-APPLE-RADIUS=500;X-TITLE=5610 Glenwood St.:geo:-116.27449646034,43.651845503259
END:VEVENT
BEGIN:VEVENT
DTSTART;TZID=America/Boise:20250817T120000
DTEND;TZID=America/Boise:20250817T140000
DTSTAMP:20260421T053343
CREATED:20250727T214645Z
LAST-MODIFIED:20250727T215415Z
UID:10005373-1755432000-1755439200@idahofair.com
SUMMARY:Hobby Craft Demo: Idaho Heritage Artists Decorative Painting
DESCRIPTION:Discover the joy of painting! Join us for a creative and fun experience where you’ll learn essential techniques and unleash your inner artist.
URL:https://idahofair.com/schedule/hobby-craft-demo-idaho-heritage-artists-decorative-painting/2025-08-17/1/
LOCATION:Hobby Craft Area – South Expo\, 5610 Glenwood St.\, Boise\, ID\, 83714\, United States
CATEGORIES:Contests & Activities
ATTACH;FMTTYPE=image/jpeg:https://idahofair.com/wp-content/uploads/heritageartists-ADu4LR.tmp_.jpg
GEO:43.651845503259;-116.27449646034
X-APPLE-STRUCTURED-LOCATION;VALUE=URI;X-ADDRESS=Hobby Craft Area – South Expo 5610 Glenwood St. Boise ID 83714 United States;X-APPLE-RADIUS=500;X-TITLE=5610 Glenwood St.:geo:-116.27449646034,43.651845503259
END:VEVENT
BEGIN:VEVENT
DTSTART;TZID=America/Boise:20250817T110000
DTEND;TZID=America/Boise:20250817T200000
DTSTAMP:20260421T053343
CREATED:20250811T010013Z
LAST-MODIFIED:20250811T010013Z
UID:10005408-1755428400-1755460800@idahofair.com
SUMMARY:Make & Take Activities
DESCRIPTION:Come roll up your sleeves\, craft something together\, and take home a unique keepsake. It’s hands-on\, fun\, and a great way to spend quality time while creating something memorable.
URL:https://idahofair.com/schedule/make-take-activities-3/
LOCATION:Western Town\, 5610 Glenwood St.\, Boise\, ID\, 83714\, United States
CATEGORIES:Contests & Activities
ATTACH;FMTTYPE=image/webp:https://idahofair.com/wp-content/uploads/activities.webp
GEO:43.65256675;-116.2734233
X-APPLE-STRUCTURED-LOCATION;VALUE=URI;X-ADDRESS=Western Town 5610 Glenwood St. Boise ID 83714 United States;X-APPLE-RADIUS=500;X-TITLE=5610 Glenwood St.:geo:-116.2734233,43.65256675
END:VEVENT
BEGIN:VEVENT
DTSTART;TZID=America/Boise:20250817T110000
DTEND;TZID=America/Boise:20250817T200000
DTSTAMP:20260421T053343
CREATED:20250810T165120Z
LAST-MODIFIED:20250810T165120Z
UID:10005395-1755428400-1755460800@idahofair.com
SUMMARY:Hidden Wonders Scavenger Hunt
DESCRIPTION:Grab your map and get ready to explore! Follow clues\, crack puzzles\, and uncover surprises on a quest made just for young adventurers at the Western Idaho Fairgrounds.
URL:https://idahofair.com/schedule/hidden-wonders-scavenger-hunt-3/
CATEGORIES:Contests & Activities
ATTACH;FMTTYPE=image/webp:https://idahofair.com/wp-content/uploads/scavenger-hunt.webp
END:VEVENT
BEGIN:VEVENT
DTSTART;TZID=America/Boise:20250816T160000
DTEND;TZID=America/Boise:20250816T180000
DTSTAMP:20260421T053343
CREATED:20250727T214645Z
LAST-MODIFIED:20250727T215415Z
UID:10005372-1755360000-1755367200@idahofair.com
SUMMARY:Hobby Craft Demo: Idaho Heritage Artists Decorative Painting
DESCRIPTION:Discover the joy of painting! Join us for a creative and fun experience where you’ll learn essential techniques and unleash your inner artist.
URL:https://idahofair.com/schedule/hobby-craft-demo-idaho-heritage-artists-decorative-painting/2025-08-16/3/
LOCATION:Hobby Craft Area – South Expo\, 5610 Glenwood St.\, Boise\, ID\, 83714\, United States
CATEGORIES:Contests & Activities
ATTACH;FMTTYPE=image/jpeg:https://idahofair.com/wp-content/uploads/heritageartists-ADu4LR.tmp_.jpg
GEO:43.651845503259;-116.27449646034
X-APPLE-STRUCTURED-LOCATION;VALUE=URI;X-ADDRESS=Hobby Craft Area – South Expo 5610 Glenwood St. Boise ID 83714 United States;X-APPLE-RADIUS=500;X-TITLE=5610 Glenwood St.:geo:-116.27449646034,43.651845503259
END:VEVENT
BEGIN:VEVENT
DTSTART;TZID=America/Boise:20250816T140000
DTEND;TZID=America/Boise:20250816T160000
DTSTAMP:20260421T053343
CREATED:20250727T214645Z
LAST-MODIFIED:20250727T215415Z
UID:10005371-1755352800-1755360000@idahofair.com
SUMMARY:Hobby Craft Demo: Idaho Heritage Artists Decorative Painting
DESCRIPTION:Discover the joy of painting! Join us for a creative and fun experience where you’ll learn essential techniques and unleash your inner artist.
URL:https://idahofair.com/schedule/hobby-craft-demo-idaho-heritage-artists-decorative-painting/2025-08-16/2/
LOCATION:Hobby Craft Area – South Expo\, 5610 Glenwood St.\, Boise\, ID\, 83714\, United States
CATEGORIES:Contests & Activities
ATTACH;FMTTYPE=image/jpeg:https://idahofair.com/wp-content/uploads/heritageartists-ADu4LR.tmp_.jpg
GEO:43.651845503259;-116.27449646034
X-APPLE-STRUCTURED-LOCATION;VALUE=URI;X-ADDRESS=Hobby Craft Area – South Expo 5610 Glenwood St. Boise ID 83714 United States;X-APPLE-RADIUS=500;X-TITLE=5610 Glenwood St.:geo:-116.27449646034,43.651845503259
END:VEVENT
BEGIN:VEVENT
DTSTART;TZID=America/Boise:20250816T140000
DTEND;TZID=America/Boise:20250816T160000
DTSTAMP:20260421T053343
CREATED:20250727T214153Z
LAST-MODIFIED:20250727T214153Z
UID:10005362-1755352800-1755360000@idahofair.com
SUMMARY:Hobby Craft Demo: Idaho Gourd Society
DESCRIPTION:Come learn how to transform gourds into art! From selecting the right gourd to cleaning\, painting\, carving\, sealing and everything in between.
URL:https://idahofair.com/schedule/hobby-craft-demo-idaho-gourd-society-7/2025-08-16/3/
LOCATION:Hobby Craft Area – South Expo\, 5610 Glenwood St.\, Boise\, ID\, 83714\, United States
CATEGORIES:Contests & Activities
ATTACH;FMTTYPE=image/jpeg:https://idahofair.com/wp-content/uploads/gourd.jpg
GEO:43.651845503259;-116.27449646034
X-APPLE-STRUCTURED-LOCATION;VALUE=URI;X-ADDRESS=Hobby Craft Area – South Expo 5610 Glenwood St. Boise ID 83714 United States;X-APPLE-RADIUS=500;X-TITLE=5610 Glenwood St.:geo:-116.27449646034,43.651845503259
END:VEVENT
BEGIN:VEVENT
DTSTART;TZID=America/Boise:20250816T120000
DTEND;TZID=America/Boise:20250816T140000
DTSTAMP:20260421T053343
CREATED:20250727T214645Z
LAST-MODIFIED:20250727T215415Z
UID:10005370-1755345600-1755352800@idahofair.com
SUMMARY:Hobby Craft Demo: Idaho Heritage Artists Decorative Painting
DESCRIPTION:Discover the joy of painting! Join us for a creative and fun experience where you’ll learn essential techniques and unleash your inner artist.
URL:https://idahofair.com/schedule/hobby-craft-demo-idaho-heritage-artists-decorative-painting/2025-08-16/1/
LOCATION:Hobby Craft Area – South Expo\, 5610 Glenwood St.\, Boise\, ID\, 83714\, United States
CATEGORIES:Contests & Activities
ATTACH;FMTTYPE=image/jpeg:https://idahofair.com/wp-content/uploads/heritageartists-ADu4LR.tmp_.jpg
GEO:43.651845503259;-116.27449646034
X-APPLE-STRUCTURED-LOCATION;VALUE=URI;X-ADDRESS=Hobby Craft Area – South Expo 5610 Glenwood St. Boise ID 83714 United States;X-APPLE-RADIUS=500;X-TITLE=5610 Glenwood St.:geo:-116.27449646034,43.651845503259
END:VEVENT
BEGIN:VEVENT
DTSTART;TZID=America/Boise:20250816T120000
DTEND;TZID=America/Boise:20250816T140000
DTSTAMP:20260421T053343
CREATED:20250727T214153Z
LAST-MODIFIED:20250727T214153Z
UID:10005361-1755345600-1755352800@idahofair.com
SUMMARY:Hobby Craft Demo: Idaho Gourd Society
DESCRIPTION:Come learn how to transform gourds into art! From selecting the right gourd to cleaning\, painting\, carving\, sealing and everything in between.
URL:https://idahofair.com/schedule/hobby-craft-demo-idaho-gourd-society-7/2025-08-16/2/
LOCATION:Hobby Craft Area – South Expo\, 5610 Glenwood St.\, Boise\, ID\, 83714\, United States
CATEGORIES:Contests & Activities
ATTACH;FMTTYPE=image/jpeg:https://idahofair.com/wp-content/uploads/gourd.jpg
GEO:43.651845503259;-116.27449646034
X-APPLE-STRUCTURED-LOCATION;VALUE=URI;X-ADDRESS=Hobby Craft Area – South Expo 5610 Glenwood St. Boise ID 83714 United States;X-APPLE-RADIUS=500;X-TITLE=5610 Glenwood St.:geo:-116.27449646034,43.651845503259
END:VEVENT
BEGIN:VEVENT
DTSTART;TZID=America/Boise:20250816T110000
DTEND;TZID=America/Boise:20250816T200000
DTSTAMP:20260421T053343
CREATED:20250811T010012Z
LAST-MODIFIED:20250811T010012Z
UID:10005407-1755342000-1755374400@idahofair.com
SUMMARY:Make & Take Activities
DESCRIPTION:Come roll up your sleeves\, craft something together\, and take home a unique keepsake. It’s hands-on\, fun\, and a great way to spend quality time while creating something memorable.
URL:https://idahofair.com/schedule/make-take-activities-2/
LOCATION:Western Town\, 5610 Glenwood St.\, Boise\, ID\, 83714\, United States
CATEGORIES:Contests & Activities
ATTACH;FMTTYPE=image/webp:https://idahofair.com/wp-content/uploads/activities.webp
GEO:43.65256675;-116.2734233
X-APPLE-STRUCTURED-LOCATION;VALUE=URI;X-ADDRESS=Western Town 5610 Glenwood St. Boise ID 83714 United States;X-APPLE-RADIUS=500;X-TITLE=5610 Glenwood St.:geo:-116.2734233,43.65256675
END:VEVENT
BEGIN:VEVENT
DTSTART;TZID=America/Boise:20250816T110000
DTEND;TZID=America/Boise:20250816T200000
DTSTAMP:20260421T053343
CREATED:20250810T165119Z
LAST-MODIFIED:20250810T165119Z
UID:10005394-1755342000-1755374400@idahofair.com
SUMMARY:Hidden Wonders Scavenger Hunt
DESCRIPTION:Grab your map and get ready to explore! Follow clues\, crack puzzles\, and uncover surprises on a quest made just for young adventurers at the Western Idaho Fairgrounds.
URL:https://idahofair.com/schedule/hidden-wonders-scavenger-hunt-2/
CATEGORIES:Contests & Activities
ATTACH;FMTTYPE=image/webp:https://idahofair.com/wp-content/uploads/scavenger-hunt.webp
END:VEVENT
BEGIN:VEVENT
DTSTART;TZID=America/Boise:20250815T140000
DTEND;TZID=America/Boise:20250815T200000
DTSTAMP:20260421T053343
CREATED:20250811T010010Z
LAST-MODIFIED:20250811T010010Z
UID:10005406-1755266400-1755288000@idahofair.com
SUMMARY:Make & Take Activities
DESCRIPTION:Come roll up your sleeves\, craft something together\, and take home a unique keepsake. It’s hands-on\, fun\, and a great way to spend quality time while creating something memorable.
URL:https://idahofair.com/schedule/make-take-activities/
LOCATION:Western Town\, 5610 Glenwood St.\, Boise\, ID\, 83714\, United States
CATEGORIES:Contests & Activities
ATTACH;FMTTYPE=image/webp:https://idahofair.com/wp-content/uploads/activities.webp
GEO:43.65256675;-116.2734233
X-APPLE-STRUCTURED-LOCATION;VALUE=URI;X-ADDRESS=Western Town 5610 Glenwood St. Boise ID 83714 United States;X-APPLE-RADIUS=500;X-TITLE=5610 Glenwood St.:geo:-116.2734233,43.65256675
END:VEVENT
BEGIN:VEVENT
DTSTART;TZID=America/Boise:20250815T120000
DTEND;TZID=America/Boise:20250815T200000
DTSTAMP:20260421T053343
CREATED:20250810T165118Z
LAST-MODIFIED:20250810T165401Z
UID:10005393-1755259200-1755288000@idahofair.com
SUMMARY:Hidden Wonders Scavenger Hunt
DESCRIPTION:Grab your map and get ready to explore! Follow clues\, crack puzzles\, and uncover surprises on a quest made just for young adventurers at the Western Idaho Fairgrounds.
URL:https://idahofair.com/schedule/hidden-wonders-scavenger-hunt/
LOCATION:South Expo Building – 4-H Area
CATEGORIES:Contests & Activities
ATTACH;FMTTYPE=image/webp:https://idahofair.com/wp-content/uploads/scavenger-hunt.webp
END:VEVENT
END:VCALENDAR